BEGIN:VCALENDAR
VERSION:2.0
PRODID:-//wp-events-plugin.com//7.2.3.1//EN
TZID:Europe/Berlin
X-WR-TIMEZONE:Europe/Berlin
BEGIN:VEVENT
UID:214@jaegergruppe-lokstedt.de
DTSTART;TZID=Europe/Berlin:20260604T190000
DTEND;TZID=Europe/Berlin:20260604T210000
DTSTAMP:20260212T160401Z
URL:https://jaegergruppe-lokstedt.de/events/ljv-hh-uebungsschiessen-2026-0
 6-04/
SUMMARY:LJV-HH Übungsschießen
DESCRIPTION:
CATEGORIES:Schießen
LOCATION:Schießstand Garlstorf\, Zur Osterheide 100\, Garlstorf\, 21376\, 
 Deutschland
X-APPLE-STRUCTURED-LOCATION;VALUE=URI;X-ADDRESS=Zur Osterheide 100\, Garlst
 orf\, 21376\, Deutschland;X-APPLE-RADIUS=100;X-TITLE=Schießstand Garlstor
 f:geo:0,0
END:VEVENT
BEGIN:VTIMEZONE
TZID:Europe/Berlin
X-LIC-LOCATION:Europe/Berlin
BEGIN:DAYLIGHT
DTSTART:20260329T030000
TZOFFSETFROM:+0100
TZOFFSETTO:+0200
TZNAME:CEST
END:DAYLIGHT
END:VTIMEZONE
END:VCALENDAR