BEGIN:VCALENDAR
VERSION:2.0
PRODID:-//wp-events-plugin.com//7.2.3.1//EN
TZID:Europe/Berlin
X-WR-TIMEZONE:Europe/Berlin
BEGIN:VEVENT
UID:190@jaegergruppe-lokstedt.de
DTSTART;TZID=Europe/Berlin:20250130T100000
DTEND;TZID=Europe/Berlin:20250130T130000
DTSTAMP:20250128T161806Z
URL:https://jaegergruppe-lokstedt.de/events/grossdemo-am-30-01-2025-in-han
 nover/
SUMMARY:Großdemo am 30.01.2025 in Hannover
DESCRIPTION:Aufruf des LJV-HH\nDie geplante Novelle des Landesjagdgesetzes 
 dort ist untragbar – daher kommt es am 30.01.2025 zu einer Demo. Es ist 
 wichtig\, dass die Jägerschaft zusammenhält und wir uns an der Demo bete
 iligen\, daher:\n\n\nDer LJV Hamburg hat einen Bus organisiert: Start ist
  am Do. 30.01.2025 um 7.00 Uhr bei Hagenbecks Tierpark \nWir werden vorau
 ssichtlich um 13 Uhr aus Hannover zurückfahren. \nFür die Teilnehmer en
 tstehen keine Kosten.\n\n\nAnmeldung über: gruppenleiter@jaegergruppe-lok
 stedt.de\n[metaslider id=823]
ATTACH;FMTTYPE=image/jpeg:https://jaegergruppe-lokstedt.de/wp-content/uplo
 ads/2025/01/Demo-Bild-2-e1736512026414.jpg
LOCATION:Schützenplatz Hannover\, Bruchmeisterallee 1A\, Hannover\, 30169\
 , Deutschland
X-APPLE-STRUCTURED-LOCATION;VALUE=URI;X-ADDRESS=Bruchmeisterallee 1A\, Hann
 over\, 30169\, Deutschland;X-APPLE-RADIUS=100;X-TITLE=Schützenplatz Hanno
 ver:geo:0,0
END:VEVENT
BEGIN:VTIMEZONE
TZID:Europe/Berlin
X-LIC-LOCATION:Europe/Berlin
BEGIN:STANDARD
DTSTART:20241027T020000
TZOFFSETFROM:+0200
TZOFFSETTO:+0100
TZNAME:CET
END:STANDARD
END:VTIMEZONE
END:VCALENDAR