BEGIN:VCALENDAR
VERSION:2.0
PRODID:-//wp-events-plugin.com//7.2.3.1//EN
TZID:Europe/Berlin
X-WR-TIMEZONE:Europe/Berlin
BEGIN:VEVENT
UID:131@jaegergruppe-lokstedt.de
DTSTART;TZID=Europe/Berlin:20240219T190000
DTEND;TZID=Europe/Berlin:20240219T210000
DTSTAMP:20240128T135832Z
URL:https://jaegergruppe-lokstedt.de/events/buechsenschiessen-11/
SUMMARY:Büchsenschießen
DESCRIPTION:Fachliche Unterstützung beim Schießen mit KK-Büchse während
  des laufenden Jungjägerlehrganges. Munition wird dafür von der Jägergr
 uppe Lokstedt gestellt. Lediglich 6\,00 € Standgebühr\, wie für alle 
 übrigen Teilnehmer auch\, sind zu entrichten. Aufgrund der Zulassung des 
 Schießstandes ist auch das Schießen mit unseren Jagdbüchsen möglich.\n
 \nHinweis\, dass zukünftig die Fehlschüsse in die Seitenwände der Schie
 ßbahnen mit 10\,00€/ pro Fehlschuss geahndet werden. (Also noch besser 
 den Zeigefinger kontrollieren!)
ATTACH;FMTTYPE=image/jpeg:https://jaegergruppe-lokstedt.de/wp-content/uplo
 ads/2022/09/Buechsenschiessen-I.jpg
CATEGORIES:Schießen
LOCATION:Halstenbeker Schützenverein\, Am Schützenpl. 24\, Halstenbek\, 2
 5469\, Deutschland
X-APPLE-STRUCTURED-LOCATION;VALUE=URI;X-ADDRESS=Am Schützenpl. 24\, Halste
 nbek\, 25469\, Deutschland;X-APPLE-RADIUS=100;X-TITLE=Halstenbeker Schütz
 enverein:geo:0,0
END:VEVENT
BEGIN:VTIMEZONE
TZID:Europe/Berlin
X-LIC-LOCATION:Europe/Berlin
BEGIN:STANDARD
DTSTART:20231029T020000
TZOFFSETFROM:+0200
TZOFFSETTO:+0100
TZNAME:CET
END:STANDARD
END:VTIMEZONE
END:VCALENDAR